BEGIN:VCALENDAR
PRODID:-//AT Content Types//AT Event//EN
VERSION:1.0
BEGIN:VEVENT
DTSTART:20160301T040000Z
DTEND:20160301T083000Z
DCREATED:20141119T014115Z
UID:ATEvent-78363e31ae144d709e806b54e1f156ef
SEQUENCE:0
LAST-MODIFIED:20160720T020915Z
SUMMARY:第 9 回地域間インタークラウドワークショップ
LOCATION:沖縄県市町村自治館
PRIORITY:3
TRANSP:0
END:VEVENT
END:VCALENDAR
