BEGIN:VCALENDAR
PRODID:-//AT Content Types//AT Event//EN
VERSION:2.0
METHOD:PUBLISH
BEGIN:VEVENT
DTSTAMP:20260424T140620Z
CREATED:20251202T133753Z
UID:ATEvent-822ed5b322fe44e998624e0e60d11795
LAST-MODIFIED:20260302T022107Z
SUMMARY:RIXX-PIoT workshop 2026
DTSTART:20260302T010000Z
DTEND:20260303T060000Z
DESCRIPTION:産学協力研究コンソーシアム インターネッ
 ト技術研究会 (シン・ITRC) 地域間相互ほにゃらら分
 会 (RIXX) は、同研究会 Plugfest for IoT 分科会 (PIoT) と
 同でワークショップを開催します。本ワークショッ
 プは実践的なハンズオンや萌芽的なアイデアに関す
 議論を通して、知見を共有することを目的として
 ます。皆様の積極的なお申し込みをお待ちしており
 ます。
LOCATION:SAKURA innobase Okinawa
CLASS:PUBLIC
END:VEVENT
END:VCALENDAR
