BEGIN:VCALENDAR
PRODID:-//AT Content Types//AT Event//EN
VERSION:2.0
METHOD:PUBLISH
BEGIN:VEVENT
DTSTAMP:20260420T092310Z
CREATED:20240812T154013Z
UID:ATEvent-7100bf813586405f9bbc7a5849cc377f
LAST-MODIFIED:20240920T003747Z
SUMMARY:RIXX workshop 2024
DTSTART:20240911T040000Z
DTEND:20240911T090000Z
DESCRIPTION:産学協力研究コンソーシアムインターネッ
 技術研究会 (ITRC) の分科会である地域間インターほ
 にゃらら分科会 (RIXX) は、RIXX workshop 2024を以下の通
 開催します。本ワークショップは Cloud Week 2024 @ 北
 道大学 (2023/9/11 (水) 〜 13 (金)) の一部として開催さ
 ます。
CLASS:PUBLIC
END:VEVENT
END:VCALENDAR
